BEGIN:VCALENDAR
VERSION:2.0
PRODID:-//Intand Corporation//Tandem//EN
METHOD:PUBLISH
BEGIN:VEVENT
DTSTAMP:20260425T104859Z
DTSTART:20191106T010000Z
DTEND:20191106T023000Z
TRANSP:TRANSPARENT
PRIORITY:0
SUMMARY:MS Indian Hill Recreation Commission Basketball Practice
LOCATION:MS Gym
DESCRIPTION:Groups:\nMS Indian Hill Recreation Commission Basketball\n\nLo
 cation:\nMS Gym\n\nContacts:\nJack Alley\n\n
URL;VALUE=URI:http://indianhill.tandem.co/index.php?type=view&action=event
 &id=44403
CREATED:20191101T161654Z
LAST-MODIFIED:20191101T184415Z
UID:event-44403-indianhill@intand.com
END:VEVENT
END:VCALENDAR
