BEGIN:VCALENDAR
VERSION:2.0
PRODID:-//Intand Corporation//Tandem//EN
METHOD:PUBLISH
BEGIN:VEVENT
DTSTAMP:20260425T110544Z
DTSTART:20191210T010000Z
DTEND:20191210T023000Z
TRANSP:TRANSPARENT
PRIORITY:0
SUMMARY:MS Indian Hill Recreation Commission Basketball Practice
LOCATION:MS Gym
DESCRIPTION:Groups:\nMS Indian Hill Recreation Commission Basketball\n\nLo
 cation:\nMS Gym\n\nContacts:\nJack Alley\n\n
URL;VALUE=URI:http://indianhill.tandem.co/index.php?type=view&action=event
 &id=44420
CREATED:20191101T162051Z
LAST-MODIFIED:20191101T185824Z
UID:event-44420-indianhill@intand.com
END:VEVENT
END:VCALENDAR
