BEGIN:VCALENDAR
VERSION:2.0
PRODID:-//Intand Corporation//Tandem//EN
METHOD:PUBLISH
BEGIN:VEVENT
DTSTAMP:20260425T104516Z
DTSTART:20200311T200000Z
DTEND:20200312T010000Z
TRANSP:TRANSPARENT
PRIORITY:0
SUMMARY:[Cancelled] PS Indian Hill Recreation Commission Basketball Practi
 ce
LOCATION:PS Gym
DESCRIPTION:Groups:\nPS Indian Hill Recreation Commission Basketball\n\nLo
 cation:\nPS Gym\n\nContacts:\nJack Alley\n\nOkay per Black Out exclusion d
 ates via Ms. Mileham / IHPS\n\n
URL;VALUE=URI:http://indianhill.tandem.co/index.php?type=view&action=event
 &id=44953
CREATED:20191111T151014Z
LAST-MODIFIED:20200210T201449Z
UID:event-44953-indianhill@intand.com
END:VEVENT
END:VCALENDAR
