BEGIN:VCALENDAR
VERSION:2.0
PRODID:-//Intand Corporation//Tandem//EN
METHOD:PUBLISH
BEGIN:VEVENT
DTSTAMP:20260425T104356Z
DTSTART:20200208T150000Z
DTEND:20200209T000000Z
TRANSP:TRANSPARENT
PRIORITY:0
SUMMARY:MS Indian Hill Recreation Commission Basketball Games
LOCATION:MS Gym
DESCRIPTION:Setup: 9:30 am\nBreakdown: 8:30 pm\n\nGroups:\nMS Indian Hill 
 Recreation Commission Basketball\n\nLocation:\nMS Gym\n\nContacts:\nJack A
 lley\n\nIncrease requested by Mr. Shaw to begin @ 10:00 a.m.\, instead of 
 10:30 a.m.\, for this day only.\n\n
URL;VALUE=URI:http://indianhill.tandem.co/index.php?type=view&action=event
 &id=45071
CREATED:20191114T193743Z
LAST-MODIFIED:20200205T191717Z
UID:event-45071-indianhill@intand.com
END:VEVENT
END:VCALENDAR
