BEGIN:VCALENDAR
VERSION:2.0
PRODID:-//Intand Corporation//Tandem//EN
METHOD:PUBLISH
BEGIN:VEVENT
DTSTAMP:20260425T110402Z
DTSTART:20200313T200000Z
DTEND:20200313T220000Z
TRANSP:TRANSPARENT
PRIORITY:0
SUMMARY:[Cancelled] PS Indian Hill Recreation Commission Basketball Practi
 ce
LOCATION:PS Gym
DESCRIPTION:Groups:\nPS Indian Hill Recreation Commission Basketball\n\nLo
 cation:\nPS Gym\n\nContacts:\nJack Alley\n\nOkay per Black Out exclusion d
 ates via Ms. Mileham / IHPS\n\n
URL;VALUE=URI:http://indianhill.tandem.co/index.php?type=view&action=event
 &id=45107
CREATED:20191115T164209Z
LAST-MODIFIED:20200210T201519Z
UID:event-45107-indianhill@intand.com
END:VEVENT
END:VCALENDAR
