BEGIN:VCALENDAR
VERSION:2.0
PRODID:-//Intand Corporation//Tandem//EN
METHOD:PUBLISH
BEGIN:VEVENT
DTSTAMP:20260425T110450Z
DTSTART:20191202T223000Z
DTEND:20191203T003000Z
TRANSP:TRANSPARENT
PRIORITY:0
SUMMARY:MS Future City Club
LOCATION:MS Office - MPR
DESCRIPTION:Groups:\nMS Parents\nMS Students\n\nSchools:\nMiddle School (I
 HMS)\n\nLocation:\nMS Office - MPR\n\n
URL;VALUE=URI:http://indianhill.tandem.co/index.php?type=view&action=event
 &id=45359
CREATED:20191125T204450Z
LAST-MODIFIED:20191125T204450Z
UID:event-45359-indianhill@intand.com
END:VEVENT
END:VCALENDAR
