BEGIN:VCALENDAR
VERSION:2.0
PRODID:-//Intand Corporation//Tandem//EN
METHOD:PUBLISH
BEGIN:VEVENT
DTSTAMP:20260425T104331Z
DTSTART:20200207T200000Z
DTEND:20200207T213000Z
TRANSP:TRANSPARENT
PRIORITY:0
SUMMARY:MS Swim Team Awards
LOCATION:MS Cafeteria
DESCRIPTION:Groups:\nUnspecified\n\nSchools:\nMiddle School (IHMS)\n\nLoca
 tion:\nMS Cafeteria\n\nMS Swim Team\n\n
URL;VALUE=URI:http://indianhill.tandem.co/index.php?type=view&action=event
 &id=45720
CREATED:20200203T140257Z
LAST-MODIFIED:20200203T140257Z
UID:event-45720-indianhill@intand.com
END:VEVENT
END:VCALENDAR
