BEGIN:VCALENDAR
VERSION:2.0
PRODID:-//Intand Corporation//Tandem//EN
METHOD:PUBLISH
BEGIN:VEVENT
DTSTAMP:20260425T110447Z
DTSTART:20200819T120000Z
DTEND:20200819T190000Z
TRANSP:TRANSPARENT
PRIORITY:0
SUMMARY:Staff Development Day
LOCATION:High School (IHHS)\, Middle School (IHMS)\, Primary School (IHPS)
 \, Elementary School (IHES)
DESCRIPTION:Full Day for Teachers\n\nGroups:\nES Faculty\nHS Faculty\nMS F
 aculty\nPS Faculty\n\nSchools:\nElementary School (IHES)\nHigh School (IHH
 S)\nMiddle School (IHMS)\nPrimary School (IHPS)\n\nLocations:\nHigh School
  (IHHS)\nMiddle School (IHMS)\nPrimary School (IHPS)\nElementary School (I
 HES)\n\n
URL;VALUE=URI:http://indianhill.tandem.co/index.php?type=view&action=event
 &id=46127
CREATED:20200817T140139Z
LAST-MODIFIED:20200817T140139Z
UID:event-46127-indianhill@intand.com
END:VEVENT
END:VCALENDAR
