BEGIN:VCALENDAR
VERSION:2.0
PRODID:-//Intand Corporation//Tandem//EN
METHOD:PUBLISH
BEGIN:VEVENT
DTSTAMP:20260425T110448Z
DTSTART;VALUE=DATE:20200919
DTEND;VALUE=DATE:20200920
TRANSP:TRANSPARENT
PRIORITY:0
SUMMARY:Rosh Hashannah
LOCATION:ALL
DESCRIPTION:(Begins at sunset 069/18\; ends at nightfall 09/20)\n\nGroups:
 \nUnspecified\n\nSchools:\nBoard Office\nPrimary School (IHPS)\nMiddle Sch
 ool (IHMS)\nHigh School (IHHS)\nElementary School (IHES)\n\nLocation:\nALL
 \n\n
URL;VALUE=URI:http://indianhill.tandem.co/index.php?type=view&action=event
 &id=46213
CREATED:20200819T160844Z
LAST-MODIFIED:20200819T160844Z
UID:event-46213-indianhill@intand.com
END:VEVENT
END:VCALENDAR
