BEGIN:VCALENDAR
VERSION:2.0
PRODID:-//Intand Corporation//Tandem//EN
METHOD:PUBLISH
BEGIN:VEVENT
DTSTAMP:20260425T104440Z
DTSTART;VALUE=DATE:20201020
DTEND;VALUE=DATE:20201021
TRANSP:TRANSPARENT
PRIORITY:0
SUMMARY:HS Sing for a Cause TBD
LOCATION:High School (IHHS)
DESCRIPTION:Groups:\nHS Choir\n\nSchools:\nHigh School (IHHS)\n\nLocation:
 \nHigh School (IHHS)\n\n
URL;VALUE=URI:http://indianhill.tandem.co/index.php?type=view&action=event
 &id=46247
CREATED:20200819T173223Z
LAST-MODIFIED:20200819T173223Z
UID:event-46247-indianhill@intand.com
END:VEVENT
END:VCALENDAR
