BEGIN:VCALENDAR
VERSION:2.0
PRODID:-//Intand Corporation//Tandem//EN
METHOD:PUBLISH
BEGIN:VEVENT
DTSTAMP:20260425T104515Z
DTSTART:20201107T000000Z
DTEND:20201107T013000Z
TRANSP:TRANSPARENT
PRIORITY:0
SUMMARY:[Cancelled] MS Fall Play TBD
LOCATION:Middle School (IHMS)
DESCRIPTION:Groups:\nMS Students\n\nSchools:\nMiddle School (IHMS)\n\nLoca
 tion:\nMiddle School (IHMS)\n\n
URL;VALUE=URI:http://indianhill.tandem.co/index.php?type=view&action=event
 &id=46267
CREATED:20200819T180328Z
LAST-MODIFIED:20201012T141922Z
UID:event-46267-indianhill@intand.com
END:VEVENT
END:VCALENDAR
