BEGIN:VCALENDAR
VERSION:2.0
PRODID:-//Intand Corporation//Tandem//EN
METHOD:PUBLISH
BEGIN:VEVENT
DTSTAMP:20260425T104441Z
DTSTART:20201113T233000Z
DTEND:20201114T023000Z
TRANSP:TRANSPARENT
PRIORITY:0
SUMMARY:[Cancelled] HS Global Network Annual Dinner
LOCATION:HS Cafeteria
DESCRIPTION:Groups:\nDT Parents\n\nSchools:\nHigh School (IHHS)\nBoard Off
 ice\nElementary School (IHES)\nMiddle School (IHMS)\nPrimary School (IHPS)
 \n\nLocation:\nHS Cafeteria\n\n
URL;VALUE=URI:http://indianhill.tandem.co/index.php?type=view&action=event
 &id=46281
CREATED:20200819T182253Z
LAST-MODIFIED:20201105T170931Z
UID:event-46281-indianhill@intand.com
END:VEVENT
END:VCALENDAR
