BEGIN:VCALENDAR
VERSION:2.0
PRODID:-//Intand Corporation//Tandem//EN
METHOD:PUBLISH
BEGIN:VEVENT
DTSTAMP:20260425T110244Z
DTSTART;VALUE=DATE:20201202
DTEND;VALUE=DATE:20201203
TRANSP:TRANSPARENT
PRIORITY:0
SUMMARY:HS Ring Orders - Grade 10 
LOCATION:High School (IHHS)
DESCRIPTION:Groups:\nHS Students\n\nSchools:\nHigh School (IHHS)\n\nLocati
 on:\nHigh School (IHHS)\n\nRing orders to be shipped home by Graduate Serv
 ices.\n\n
URL;VALUE=URI:http://indianhill.tandem.co/index.php?type=view&action=event
 &id=46306
CREATED:20200819T185047Z
LAST-MODIFIED:20200819T185047Z
UID:event-46306-indianhill@intand.com
END:VEVENT
END:VCALENDAR
