BEGIN:VCALENDAR
VERSION:2.0
PRODID:-//Intand Corporation//Tandem//EN
METHOD:PUBLISH
BEGIN:VEVENT
DTSTAMP:20260425T110321Z
DTSTART:20210418T180000Z
DTEND:20210418T210000Z
TRANSP:TRANSPARENT
PRIORITY:0
SUMMARY:HS Pow Wow "Hello Dolly!"
LOCATION:HS Auditorium
DESCRIPTION:Groups:\nHS Theatre\n\nSchools:\nHigh School (IHHS)\n\nLocatio
 n:\nHS Auditorium\n\n
URL;VALUE=URI:http://indianhill.tandem.co/index.php?type=view&action=event
 &id=46418
CREATED:20200819T200400Z
LAST-MODIFIED:20210414T143930Z
UID:event-46418-indianhill@intand.com
END:VEVENT
END:VCALENDAR
