BEGIN:VCALENDAR
VERSION:2.0
PRODID:-//Intand Corporation//Tandem//EN
METHOD:PUBLISH
BEGIN:VEVENT
DTSTAMP:20260425T105501Z
DTSTART;VALUE=DATE:20210513
DTEND;VALUE=DATE:20210514
TRANSP:TRANSPARENT
PRIORITY:0
SUMMARY:EID AL-FITR (Begins in the evening of May 13th
LOCATION:ALL
DESCRIPTION:Groups:\nUnspecified\n\nSchools:\nElementary School (IHES)\nHi
 gh School (IHHS)\nMiddle School (IHMS)\nPrimary School (IHPS)\nBoard Offic
 e\n\nLocation:\nALL\n\n
URL;VALUE=URI:http://indianhill.tandem.co/index.php?type=view&action=event
 &id=46562
CREATED:20200819T213529Z
LAST-MODIFIED:20200819T213529Z
UID:event-46562-indianhill@intand.com
END:VEVENT
END:VCALENDAR
