BEGIN:VCALENDAR
VERSION:2.0
PRODID:-//Intand Corporation//Tandem//EN
METHOD:PUBLISH
BEGIN:VEVENT
DTSTAMP:20260425T104523Z
DTSTART:20210515T230000Z
DTEND:20210516T020000Z
TRANSP:TRANSPARENT
PRIORITY:0
SUMMARY:HS Prom / After Prom 
LOCATION:High School (IHHS)
DESCRIPTION:Schools:\nHigh School (IHHS)\n\nLocation:\nHigh School (IHHS)\
 n\n
URL;VALUE=URI:http://indianhill.tandem.co/index.php?type=view&action=event
 &id=46568
CREATED:20200819T213905Z
LAST-MODIFIED:20210513T170632Z
UID:event-46568-indianhill@intand.com
END:VEVENT
END:VCALENDAR
