BEGIN:VCALENDAR
VERSION:2.0
PRODID:-//Intand Corporation//Tandem//EN
METHOD:PUBLISH
BEGIN:VEVENT
DTSTAMP:20260425T104524Z
DTSTART:20210618T110000Z
DTEND:20210618T160000Z
TRANSP:TRANSPARENT
PRIORITY:0
SUMMARY:HS Online Registration Deadline for 7/17 ACT
LOCATION:High School (IHHS)
DESCRIPTION:Schools:\nHigh School (IHHS)\n\nLocation:\nHigh School (IHHS)\
 n\n
URL;VALUE=URI:http://indianhill.tandem.co/index.php?type=view&action=event
 &id=46602
CREATED:20200819T215700Z
LAST-MODIFIED:20210525T154419Z
UID:event-46602-indianhill@intand.com
END:VEVENT
END:VCALENDAR
