BEGIN:VCALENDAR
VERSION:2.0
PRODID:-//Intand Corporation//Tandem//EN
METHOD:PUBLISH
BEGIN:VEVENT
DTSTAMP:20260425T105644Z
DTSTART:20201023T203000Z
DTEND:20201023T213000Z
TRANSP:TRANSPARENT
PRIORITY:0
SUMMARY:FOOTBALL MEAL IN PAVILLION
LOCATION:Athletics
DESCRIPTION:Groups:\nHS Athlete Parents\n\nSchools:\nAthletics\n\nLocation
 :\nAthletics\n\n
URL;VALUE=URI:http://indianhill.tandem.co/index.php?type=view&action=event
 &id=46881
CREATED:20201007T181623Z
LAST-MODIFIED:20201008T120622Z
UID:event-46881-indianhill@intand.com
END:VEVENT
END:VCALENDAR
