BEGIN:VCALENDAR
VERSION:2.0
PRODID:-//Intand Corporation//Tandem//EN
METHOD:PUBLISH
BEGIN:VEVENT
DTSTAMP:20260425T104524Z
DTSTART:20210519T220000Z
DTEND:20210519T223000Z
TRANSP:TRANSPARENT
PRIORITY:0
SUMMARY:MS 6th Grade Band Night
LOCATION:HS Auditorium
DESCRIPTION:Schools:\nMiddle School (IHMS)\nHigh School (IHHS)\n\nLocation
 :\nHS Auditorium\n\n
URL;VALUE=URI:http://indianhill.tandem.co/index.php?type=view&action=event
 &id=47574
CREATED:20210319T172757Z
LAST-MODIFIED:20210428T163827Z
UID:event-47574-indianhill@intand.com
END:VEVENT
END:VCALENDAR
