BEGIN:VCALENDAR
VERSION:2.0
PRODID:-//Intand Corporation//Tandem//EN
METHOD:PUBLISH
BEGIN:VEVENT
DTSTAMP:20260425T104359Z
DTSTART:20210524T230000Z
DTEND:20210525T010000Z
TRANSP:TRANSPARENT
PRIORITY:0
SUMMARY:HS Senior Athletic Awards
LOCATION:HS Auditorium
DESCRIPTION:Groups:\nGrade 12\n\nSchools:\nHigh School (IHHS)\n\nLocation:
 \nHS Auditorium\n\n
URL;VALUE=URI:http://indianhill.tandem.co/index.php?type=view&action=event
 &id=47607
CREATED:20210412T132007Z
LAST-MODIFIED:20210412T132007Z
UID:event-47607-indianhill@intand.com
END:VEVENT
END:VCALENDAR
