BEGIN:VCALENDAR
VERSION:2.0
PRODID:-//Intand Corporation//Tandem//EN
METHOD:PUBLISH
BEGIN:VEVENT
DTSTAMP:20260425T110401Z
DTSTART:20210617T130000Z
DTEND:20210617T180000Z
TRANSP:TRANSPARENT
PRIORITY:0
SUMMARY:HS CAPA Summer Camp - James and the Giant Peach
LOCATION:HS Auditorium\, HS Band Room\, HS Orchestra Room\, HS Choir Room 
 (Lg)
DESCRIPTION:Groups:\nCAPA\n\nLocations:\nHS Auditorium\nHS Band Room\nHS O
 rchestra Room\nHS Choir Room (Lg)\n\nContacts:\nKimberly Buczek \n\n
URL;VALUE=URI:http://indianhill.tandem.co/index.php?type=view&action=event
 &id=47856
CREATED:20210525T124039Z
LAST-MODIFIED:20210525T124039Z
UID:event-47856-indianhill@intand.com
END:VEVENT
END:VCALENDAR
