BEGIN:VCALENDAR
VERSION:2.0
PRODID:-//Intand Corporation//Tandem//EN
METHOD:PUBLISH
BEGIN:VEVENT
DTSTAMP:20260425T105150Z
DTSTART:20210818T200000Z
DTEND:20210818T223000Z
TRANSP:TRANSPARENT
PRIORITY:0
SUMMARY:PS IH Recreation Volleyball Practice Skills
LOCATION:PS Gym
DESCRIPTION:Groups:\nIH Recreation Volleyball Practice\n\nSchools:\nPrimar
 y School (IHPS)\n\nLocation:\nPS Gym\n\n
URL;VALUE=URI:http://indianhill.tandem.co/index.php?type=view&action=event
 &id=48355
CREATED:20210816T150636Z
LAST-MODIFIED:20210816T150636Z
UID:event-48355-indianhill@intand.com
END:VEVENT
END:VCALENDAR
